BEGIN:VCALENDAR
VERSION:2.0
PRODID:spatie/icalendar-generator
DESCRIPTION:Events from Orange County AGO
X-WR-CALDESC:Events from Orange County AGO
REFRESH-INTERVAL;VALUE=DURATION:PT1440M
X-PUBLISHED-TTL:PT1440M
BEGIN:VTIMEZONE
TZID:America/Los_Angeles
BEGIN:DAYLIGHT
DTSTART:20220313T020000Z
TZOFFSETFROM:-0800
TZOFFSETTO:-0700
END:DAYLIGHT
BEGIN:STANDARD
DTSTART:20221106T020000Z
TZOFFSETFROM:-0700
TZOFFSETTO:-0800
END:STANDARD
BEGIN:DAYLIGHT
DTSTART:20230312T020000Z
TZOFFSETFROM:-0800
TZOFFSETTO:-0700
END:DAYLIGHT
END:VTIMEZONE
BEGIN:VTIMEZONE
TZID:UTC
BEGIN:STANDARD
DTSTART:20250724T135443Z
TZOFFSETFROM:+0000
TZOFFSETTO:+0000
END:STANDARD
END:VTIMEZONE
BEGIN:VEVENT
UID:3-3
DTSTAMP:20260420T135443Z
SUMMARY:CESAR FRANCK CONCERT
LOCATION:Christ Cathedral 13280 Chapman Avenue  Garden Grove CA 92840
ORGANIZER;CN=NewAdmin:MAILTO:alantkc@gmail.com
DTSTART;TZID=America/Los_Angeles:20221107T193000
DTEND;TZID=America/Los_Angeles:20221107T203000
X-ALT-DESC;FMTTYPE=TEXT/HTML:As part of the Year of Hazel celebration\, Dav
 id Ball\, Emma Whiten\, Tom Mueller and Jung-A Lee will perform on Hazel W
 right Organ. Since 2022 is the 200th anniversary of Cesar Franck’s birth
  year\, the program will feature his organ works. Cosponsored by Christ Ca
 thedral music ministry and OCAGO.
CATEGORIES:General
URL;VALUE=URI:https://ocago.org/mc-events/cesar-franck-concert/
METHOD:PUBLISH
END:VEVENT
END:VCALENDAR